BEGIN:VCALENDAR
VERSION:2.0
PRODID:-//Tukios.com/
BEGIN:VEVENT
UID:69b2a522-4901-4962-b2d1-eeb7289cb4de@www.uhtfuneralhome.com
DTSTAMP:20260424T172822Z
DTSTART:20260502T150000Z
DTEND:20260502T190000Z
SUMMARY:Memorial Gathering
DESCRIPTION:
URL:https://www.uhtfuneralhome.com/obituaries/karen-kopcak
LOCATION:Uht Funeral Home 35400 Glenwood Road  Westland MI 48186
GEO:42.2887408;-83.3883618
END:VEVENT
END:VCALENDAR