BEGIN:VCALENDAR
VERSION:2.0
PRODID:-//Tukios.com/
BEGIN:VEVENT
UID:1bbc7a98-2b28-485a-b15c-2317f12ca43e@www.uhtfuneralhome.com
DTSTAMP:20260424T173107Z
DTSTART:20260502T190000Z
DTEND:20260502T200000Z
SUMMARY:Memorial Service
DESCRIPTION:
URL:https://www.uhtfuneralhome.com/obituaries/karen-kopcak
LOCATION:Uht Funeral Home 35400 Glenwood Road  Westland MI 48186
GEO:42.2887408;-83.3883618
END:VEVENT
END:VCALENDAR