BEGIN:VCALENDAR
VERSION:2.0
PRODID:-//Tukios.com/
BEGIN:VEVENT
UID:a986421a-857d-448c-952a-902725ac5248@www.uhtfuneralhome.com
DTSTAMP:20260423T192009Z
DTSTART:20260426T190000Z
DTEND:20260426T200000Z
SUMMARY:Memorial Service
DESCRIPTION:
URL:https://www.uhtfuneralhome.com/obituaries/billy-ray-carpenter
LOCATION:Uht Funeral Home 35400 Glenwood Rd  Westland MI 48186
GEO:42.2887408;-83.3883618
END:VEVENT
END:VCALENDAR