BEGIN:VCALENDAR
VERSION:2.0
PRODID:-//Tukios.com/
BEGIN:VEVENT
UID:dc2c6ca3-89e2-4f8b-85aa-6c5f6b65517b@www.uhtfuneralhome.com
DTSTAMP:20260423T192045Z
DTSTART:20260426T160000Z
DTEND:20260426T190000Z
SUMMARY:Memorial Gathering
DESCRIPTION:
URL:https://www.uhtfuneralhome.com/obituaries/billy-ray-carpenter
LOCATION:Uht Funeral Home 35400 Glenwood Rd  Westland MI 48186
GEO:42.2887408;-83.3883618
END:VEVENT
END:VCALENDAR